BEGIN:VCALENDAR
VERSION:2.0
PRODID:-//Guttenberg Hospital - ECPv6.15.20//NONSGML v1.0//EN
CALSCALE:GREGORIAN
METHOD:PUBLISH
X-ORIGINAL-URL:https://www.guttenberghospital.org
X-WR-CALDESC:Events for Guttenberg Hospital
REFRESH-INTERVAL;VALUE=DURATION:PT1H
X-Robots-Tag:noindex
X-PUBLISHED-TTL:PT1H
BEGIN:VTIMEZONE
TZID:America/Chicago
BEGIN:DAYLIGHT
TZOFFSETFROM:-0600
TZOFFSETTO:-0500
TZNAME:CDT
DTSTART:20230312T080000
END:DAYLIGHT
BEGIN:STANDARD
TZOFFSETFROM:-0500
TZOFFSETTO:-0600
TZNAME:CST
DTSTART:20231105T070000
END:STANDARD
BEGIN:DAYLIGHT
TZOFFSETFROM:-0600
TZOFFSETTO:-0500
TZNAME:CDT
DTSTART:20240310T080000
END:DAYLIGHT
BEGIN:STANDARD
TZOFFSETFROM:-0500
TZOFFSETTO:-0600
TZNAME:CST
DTSTART:20241103T070000
END:STANDARD
BEGIN:DAYLIGHT
TZOFFSETFROM:-0600
TZOFFSETTO:-0500
TZNAME:CDT
DTSTART:20250309T080000
END:DAYLIGHT
BEGIN:STANDARD
TZOFFSETFROM:-0500
TZOFFSETTO:-0600
TZNAME:CST
DTSTART:20251102T070000
END:STANDARD
END:VTIMEZONE
BEGIN:VEVENT
DTSTART;TZID=America/Chicago:20241024T160000
DTEND;TZID=America/Chicago:20241024T170000
DTSTAMP:20260425T105641
CREATED:20241007T211215Z
LAST-MODIFIED:20241007T211401Z
UID:10000330-1729785600-1729789200@www.guttenberghospital.org
SUMMARY:Seasonal Depression Discussion with Behavioral Health Experts
DESCRIPTION:Many of us feel down as the seasons change. Join us for an insightful presentation on Seasonal Depression led by our behavioral health experts. Learn about the causes\, symptoms\, and effective coping strategies for managing seasonal changes that affect mood and mental health. \n\n\n\nDo you or a loved one experience these symptoms? \n\n\n\n\nLow energy and fatigue\n\n\n\nDifficulty concentrating\n\n\n\nChanges in sleep patterns\n\n\n\nIncreased cravings for carbohydrates\n\n\n\nFeelings of hopelessness or sadness\n\n\n\nWithdrawal from social activities\n\n\n\n\nOur experts\, Betty Brimeyer\, PMHNP\, Amber Jaeger\, PMHNP\, and Nicole Makovec\, LISW\, will be available to answer your questions and provide support. Let’s work together to prioritize mental health as the seasons change. We hope to see you there! Thursday\, Oct. 24 at 4:00 PM in the GMHC Education Center. No registration required.
URL:https://www.guttenberghospital.org/event/seasonal-depression-discussion-with-behavioral-health-experts/
LOCATION:Guttenberg Municipal Hospital & Clinics\, 200 Main Street\, Guttenberg\, Iowa\, 52052\, United States
END:VEVENT
END:VCALENDAR