BEGIN:VCALENDAR
VERSION:2.0
PRODID:-//Guttenberg Hospital - ECPv6.15.20//NONSGML v1.0//EN
CALSCALE:GREGORIAN
METHOD:PUBLISH
X-ORIGINAL-URL:https://www.guttenberghospital.org
X-WR-CALDESC:Events for Guttenberg Hospital
REFRESH-INTERVAL;VALUE=DURATION:PT1H
X-Robots-Tag:noindex
X-PUBLISHED-TTL:PT1H
BEGIN:VTIMEZONE
TZID:America/Chicago
BEGIN:DAYLIGHT
TZOFFSETFROM:-0600
TZOFFSETTO:-0500
TZNAME:CDT
DTSTART:20210314T080000
END:DAYLIGHT
BEGIN:STANDARD
TZOFFSETFROM:-0500
TZOFFSETTO:-0600
TZNAME:CST
DTSTART:20211107T070000
END:STANDARD
BEGIN:DAYLIGHT
TZOFFSETFROM:-0600
TZOFFSETTO:-0500
TZNAME:CDT
DTSTART:20220313T080000
END:DAYLIGHT
BEGIN:STANDARD
TZOFFSETFROM:-0500
TZOFFSETTO:-0600
TZNAME:CST
DTSTART:20221106T070000
END:STANDARD
BEGIN:DAYLIGHT
TZOFFSETFROM:-0600
TZOFFSETTO:-0500
TZNAME:CDT
DTSTART:20230312T080000
END:DAYLIGHT
BEGIN:STANDARD
TZOFFSETFROM:-0500
TZOFFSETTO:-0600
TZNAME:CST
DTSTART:20231105T070000
END:STANDARD
END:VTIMEZONE
BEGIN:VEVENT
DTSTART;TZID=America/Chicago:20220914T120000
DTEND;TZID=America/Chicago:20220914T130000
DTSTAMP:20260425T230947
CREATED:20220823T194740Z
LAST-MODIFIED:20220823T195606Z
UID:10000093-1663156800-1663160400@www.guttenberghospital.org
SUMMARY:Lunch & Learn: Family Resource Center Services
DESCRIPTION:Join us over lunch\, in person or virtually\, in the GMHC Education Center to learn more about the services offered at the Family Resource Center. \n\n\n\nOverview of social determinants of healthAccessing programs based on income eligibilityVolunteer opportunities\n\n\n\nRegister online for in person or virtual option at https://www.surveymonkey.com/r/59GJ66S \n\n\n\nOr call: 563-252-3215 or email: family.resource.center@guttenberghospital.org \n\n\n\nLink to attend virtually will be sent after registration. Masks required in GMHC.
URL:https://www.guttenberghospital.org/event/lunch-learn-family-resource-center-services/
LOCATION:Guttenberg Municipal Hospital & Clinics\, 200 Main Street\, Guttenberg\, Iowa\, 52052\, United States
END:VEVENT
BEGIN:VEVENT
DTSTART;TZID=America/Chicago:20220915T160000
DTEND;TZID=America/Chicago:20220915T170000
DTSTAMP:20260425T230947
CREATED:20220413T124312Z
LAST-MODIFIED:20220413T124404Z
UID:10000119-1663257600-1663261200@www.guttenberghospital.org
SUMMARY:Grief Support Group
DESCRIPTION:Grief is the normal and natural emotional response to loss due to death\, divorce or other losses than a person may experience. We provide a safe environment to support you on your journey of recovery from the grief that you are experiencing.
URL:https://www.guttenberghospital.org/event/grief-support-group/2022-09-15/
LOCATION:GMHC Family Resource Center\, 514 River Park Dr.\, Guttenberg\, Iowa\, 52052\, United States
END:VEVENT
END:VCALENDAR